BEGIN:VCALENDAR
VERSION:2.0
PRODID:-//Winsome Ministries - ECPv6.15.20//NONSGML v1.0//EN
CALSCALE:GREGORIAN
METHOD:PUBLISH
X-WR-CALNAME:Winsome Ministries
X-ORIGINAL-URL:https://www.winsomeministries.org
X-WR-CALDESC:Events for Winsome Ministries
REFRESH-INTERVAL;VALUE=DURATION:PT1H
X-Robots-Tag:noindex
X-PUBLISHED-TTL:PT1H
BEGIN:VTIMEZONE
TZID:America/Denver
BEGIN:DAYLIGHT
TZOFFSETFROM:-0700
TZOFFSETTO:-0600
TZNAME:MDT
DTSTART:20250309T090000
END:DAYLIGHT
BEGIN:STANDARD
TZOFFSETFROM:-0600
TZOFFSETTO:-0700
TZNAME:MST
DTSTART:20251102T080000
END:STANDARD
BEGIN:DAYLIGHT
TZOFFSETFROM:-0700
TZOFFSETTO:-0600
TZNAME:MDT
DTSTART:20260308T090000
END:DAYLIGHT
BEGIN:STANDARD
TZOFFSETFROM:-0600
TZOFFSETTO:-0700
TZNAME:MST
DTSTART:20261101T080000
END:STANDARD
BEGIN:DAYLIGHT
TZOFFSETFROM:-0700
TZOFFSETTO:-0600
TZNAME:MDT
DTSTART:20270314T090000
END:DAYLIGHT
BEGIN:STANDARD
TZOFFSETFROM:-0600
TZOFFSETTO:-0700
TZNAME:MST
DTSTART:20271107T080000
END:STANDARD
BEGIN:DAYLIGHT
TZOFFSETFROM:-0700
TZOFFSETTO:-0600
TZNAME:MDT
DTSTART:20280312T090000
END:DAYLIGHT
BEGIN:STANDARD
TZOFFSETFROM:-0600
TZOFFSETTO:-0700
TZNAME:MST
DTSTART:20281105T080000
END:STANDARD
BEGIN:DAYLIGHT
TZOFFSETFROM:-0700
TZOFFSETTO:-0600
TZNAME:MDT
DTSTART:20290311T090000
END:DAYLIGHT
BEGIN:STANDARD
TZOFFSETFROM:-0600
TZOFFSETTO:-0700
TZNAME:MST
DTSTART:20291104T080000
END:STANDARD
END:VTIMEZONE
BEGIN:VEVENT
DTSTART;TZID=America/Denver:20260504T100000
DTEND;TZID=America/Denver:20260504T130000
DTSTAMP:20260423T114217
CREATED:20250724T204300Z
LAST-MODIFIED:20250725T135851Z
UID:10000415-1777888800-1777899600@www.winsomeministries.org
SUMMARY:Patriot Grandmas Lunch & Prayer
DESCRIPTION:Join Patriot Grandmas for a special prayer and lunch gathering. We’ll spend time in prayer —followed by a time of fellowship over lunch. All Northern Colorado grandmas are welcome! \nRSVP to Sharron Penny: Call 303-887-5087 or email patriotgrandmas@gmail.com
URL:https://www.winsomeministries.org/event/patriot-grandmas-lunch-prayer-2-2/2026-05-04/
LOCATION:Sharron Penny’s Home\, 220 Marcy Dr.\, Loveland\, CO\, 80537
CATEGORIES:Event
ATTACH;FMTTYPE=image/jpeg:https://www.winsomeministries.org/wp-content/uploads/2025/06/event-web.jpg
ORGANIZER;CN="Patriot Grandmas":MAILTO:patriotgrandmas@gmail.com
END:VEVENT
BEGIN:VEVENT
DTSTART;TZID=America/Denver:20260601T100000
DTEND;TZID=America/Denver:20260601T130000
DTSTAMP:20260423T114217
CREATED:20250724T204300Z
LAST-MODIFIED:20250725T135851Z
UID:10000416-1780308000-1780318800@www.winsomeministries.org
SUMMARY:Patriot Grandmas Lunch & Prayer
DESCRIPTION:Join Patriot Grandmas for a special prayer and lunch gathering. We’ll spend time in prayer —followed by a time of fellowship over lunch. All Northern Colorado grandmas are welcome! \nRSVP to Sharron Penny: Call 303-887-5087 or email patriotgrandmas@gmail.com
URL:https://www.winsomeministries.org/event/patriot-grandmas-lunch-prayer-2-2/2026-06-01/
LOCATION:Sharron Penny’s Home\, 220 Marcy Dr.\, Loveland\, CO\, 80537
CATEGORIES:Event
ATTACH;FMTTYPE=image/jpeg:https://www.winsomeministries.org/wp-content/uploads/2025/06/event-web.jpg
ORGANIZER;CN="Patriot Grandmas":MAILTO:patriotgrandmas@gmail.com
END:VEVENT
BEGIN:VEVENT
DTSTART;TZID=America/Denver:20260706T100000
DTEND;TZID=America/Denver:20260706T130000
DTSTAMP:20260423T114217
CREATED:20250724T204300Z
LAST-MODIFIED:20250725T135851Z
UID:10000417-1783332000-1783342800@www.winsomeministries.org
SUMMARY:Patriot Grandmas Lunch & Prayer
DESCRIPTION:Join Patriot Grandmas for a special prayer and lunch gathering. We’ll spend time in prayer —followed by a time of fellowship over lunch. All Northern Colorado grandmas are welcome! \nRSVP to Sharron Penny: Call 303-887-5087 or email patriotgrandmas@gmail.com
URL:https://www.winsomeministries.org/event/patriot-grandmas-lunch-prayer-2-2/2026-07-06/
LOCATION:Sharron Penny’s Home\, 220 Marcy Dr.\, Loveland\, CO\, 80537
CATEGORIES:Event
ATTACH;FMTTYPE=image/jpeg:https://www.winsomeministries.org/wp-content/uploads/2025/06/event-web.jpg
ORGANIZER;CN="Patriot Grandmas":MAILTO:patriotgrandmas@gmail.com
END:VEVENT
BEGIN:VEVENT
DTSTART;TZID=America/Denver:20260803T100000
DTEND;TZID=America/Denver:20260803T130000
DTSTAMP:20260423T114217
CREATED:20250724T204300Z
LAST-MODIFIED:20250725T135851Z
UID:10000418-1785751200-1785762000@www.winsomeministries.org
SUMMARY:Patriot Grandmas Lunch & Prayer
DESCRIPTION:Join Patriot Grandmas for a special prayer and lunch gathering. We’ll spend time in prayer —followed by a time of fellowship over lunch. All Northern Colorado grandmas are welcome! \nRSVP to Sharron Penny: Call 303-887-5087 or email patriotgrandmas@gmail.com
URL:https://www.winsomeministries.org/event/patriot-grandmas-lunch-prayer-2-2/2026-08-03/
LOCATION:Sharron Penny’s Home\, 220 Marcy Dr.\, Loveland\, CO\, 80537
CATEGORIES:Event
ATTACH;FMTTYPE=image/jpeg:https://www.winsomeministries.org/wp-content/uploads/2025/06/event-web.jpg
ORGANIZER;CN="Patriot Grandmas":MAILTO:patriotgrandmas@gmail.com
END:VEVENT
BEGIN:VEVENT
DTSTART;TZID=America/Denver:20260907T100000
DTEND;TZID=America/Denver:20260907T130000
DTSTAMP:20260423T114217
CREATED:20250724T204300Z
LAST-MODIFIED:20250725T135851Z
UID:10000419-1788775200-1788786000@www.winsomeministries.org
SUMMARY:Patriot Grandmas Lunch & Prayer
DESCRIPTION:Join Patriot Grandmas for a special prayer and lunch gathering. We’ll spend time in prayer —followed by a time of fellowship over lunch. All Northern Colorado grandmas are welcome! \nRSVP to Sharron Penny: Call 303-887-5087 or email patriotgrandmas@gmail.com
URL:https://www.winsomeministries.org/event/patriot-grandmas-lunch-prayer-2-2/2026-09-07/
LOCATION:Sharron Penny’s Home\, 220 Marcy Dr.\, Loveland\, CO\, 80537
CATEGORIES:Event
ATTACH;FMTTYPE=image/jpeg:https://www.winsomeministries.org/wp-content/uploads/2025/06/event-web.jpg
ORGANIZER;CN="Patriot Grandmas":MAILTO:patriotgrandmas@gmail.com
END:VEVENT
BEGIN:VEVENT
DTSTART;TZID=America/Denver:20261005T100000
DTEND;TZID=America/Denver:20261005T130000
DTSTAMP:20260423T114217
CREATED:20250724T204300Z
LAST-MODIFIED:20250725T135851Z
UID:10000420-1791194400-1791205200@www.winsomeministries.org
SUMMARY:Patriot Grandmas Lunch & Prayer
DESCRIPTION:Join Patriot Grandmas for a special prayer and lunch gathering. We’ll spend time in prayer —followed by a time of fellowship over lunch. All Northern Colorado grandmas are welcome! \nRSVP to Sharron Penny: Call 303-887-5087 or email patriotgrandmas@gmail.com
URL:https://www.winsomeministries.org/event/patriot-grandmas-lunch-prayer-2-2/2026-10-05/
LOCATION:Sharron Penny’s Home\, 220 Marcy Dr.\, Loveland\, CO\, 80537
CATEGORIES:Event
ATTACH;FMTTYPE=image/jpeg:https://www.winsomeministries.org/wp-content/uploads/2025/06/event-web.jpg
ORGANIZER;CN="Patriot Grandmas":MAILTO:patriotgrandmas@gmail.com
END:VEVENT
BEGIN:VEVENT
DTSTART;TZID=America/Denver:20261102T100000
DTEND;TZID=America/Denver:20261102T130000
DTSTAMP:20260423T114217
CREATED:20250724T204300Z
LAST-MODIFIED:20250725T135851Z
UID:10000421-1793613600-1793624400@www.winsomeministries.org
SUMMARY:Patriot Grandmas Lunch & Prayer
DESCRIPTION:Join Patriot Grandmas for a special prayer and lunch gathering. We’ll spend time in prayer —followed by a time of fellowship over lunch. All Northern Colorado grandmas are welcome! \nRSVP to Sharron Penny: Call 303-887-5087 or email patriotgrandmas@gmail.com
URL:https://www.winsomeministries.org/event/patriot-grandmas-lunch-prayer-2-2/2026-11-02/
LOCATION:Sharron Penny’s Home\, 220 Marcy Dr.\, Loveland\, CO\, 80537
CATEGORIES:Event
ATTACH;FMTTYPE=image/jpeg:https://www.winsomeministries.org/wp-content/uploads/2025/06/event-web.jpg
ORGANIZER;CN="Patriot Grandmas":MAILTO:patriotgrandmas@gmail.com
END:VEVENT
BEGIN:VEVENT
DTSTART;TZID=America/Denver:20261207T100000
DTEND;TZID=America/Denver:20261207T130000
DTSTAMP:20260423T114217
CREATED:20250724T204300Z
LAST-MODIFIED:20250725T135851Z
UID:10000422-1796637600-1796648400@www.winsomeministries.org
SUMMARY:Patriot Grandmas Lunch & Prayer
DESCRIPTION:Join Patriot Grandmas for a special prayer and lunch gathering. We’ll spend time in prayer —followed by a time of fellowship over lunch. All Northern Colorado grandmas are welcome! \nRSVP to Sharron Penny: Call 303-887-5087 or email patriotgrandmas@gmail.com
URL:https://www.winsomeministries.org/event/patriot-grandmas-lunch-prayer-2-2/2026-12-07/
LOCATION:Sharron Penny’s Home\, 220 Marcy Dr.\, Loveland\, CO\, 80537
CATEGORIES:Event
ATTACH;FMTTYPE=image/jpeg:https://www.winsomeministries.org/wp-content/uploads/2025/06/event-web.jpg
ORGANIZER;CN="Patriot Grandmas":MAILTO:patriotgrandmas@gmail.com
END:VEVENT
BEGIN:VEVENT
DTSTART;TZID=America/Denver:20270104T100000
DTEND;TZID=America/Denver:20270104T130000
DTSTAMP:20260423T114217
CREATED:20250724T204300Z
LAST-MODIFIED:20250725T135851Z
UID:10000423-1799056800-1799067600@www.winsomeministries.org
SUMMARY:Patriot Grandmas Lunch & Prayer
DESCRIPTION:Join Patriot Grandmas for a special prayer and lunch gathering. We’ll spend time in prayer —followed by a time of fellowship over lunch. All Northern Colorado grandmas are welcome! \nRSVP to Sharron Penny: Call 303-887-5087 or email patriotgrandmas@gmail.com
URL:https://www.winsomeministries.org/event/patriot-grandmas-lunch-prayer-2-2/2027-01-04/
LOCATION:Sharron Penny’s Home\, 220 Marcy Dr.\, Loveland\, CO\, 80537
CATEGORIES:Event
ATTACH;FMTTYPE=image/jpeg:https://www.winsomeministries.org/wp-content/uploads/2025/06/event-web.jpg
ORGANIZER;CN="Patriot Grandmas":MAILTO:patriotgrandmas@gmail.com
END:VEVENT
BEGIN:VEVENT
DTSTART;TZID=America/Denver:20270201T100000
DTEND;TZID=America/Denver:20270201T130000
DTSTAMP:20260423T114217
CREATED:20250724T204300Z
LAST-MODIFIED:20250725T135851Z
UID:10000424-1801476000-1801486800@www.winsomeministries.org
SUMMARY:Patriot Grandmas Lunch & Prayer
DESCRIPTION:Join Patriot Grandmas for a special prayer and lunch gathering. We’ll spend time in prayer —followed by a time of fellowship over lunch. All Northern Colorado grandmas are welcome! \nRSVP to Sharron Penny: Call 303-887-5087 or email patriotgrandmas@gmail.com
URL:https://www.winsomeministries.org/event/patriot-grandmas-lunch-prayer-2-2/2027-02-01/
LOCATION:Sharron Penny’s Home\, 220 Marcy Dr.\, Loveland\, CO\, 80537
CATEGORIES:Event
ATTACH;FMTTYPE=image/jpeg:https://www.winsomeministries.org/wp-content/uploads/2025/06/event-web.jpg
ORGANIZER;CN="Patriot Grandmas":MAILTO:patriotgrandmas@gmail.com
END:VEVENT
BEGIN:VEVENT
DTSTART;TZID=America/Denver:20270301T100000
DTEND;TZID=America/Denver:20270301T130000
DTSTAMP:20260423T114217
CREATED:20250724T204300Z
LAST-MODIFIED:20250725T135851Z
UID:10000425-1803895200-1803906000@www.winsomeministries.org
SUMMARY:Patriot Grandmas Lunch & Prayer
DESCRIPTION:Join Patriot Grandmas for a special prayer and lunch gathering. We’ll spend time in prayer —followed by a time of fellowship over lunch. All Northern Colorado grandmas are welcome! \nRSVP to Sharron Penny: Call 303-887-5087 or email patriotgrandmas@gmail.com
URL:https://www.winsomeministries.org/event/patriot-grandmas-lunch-prayer-2-2/2027-03-01/
LOCATION:Sharron Penny’s Home\, 220 Marcy Dr.\, Loveland\, CO\, 80537
CATEGORIES:Event
ATTACH;FMTTYPE=image/jpeg:https://www.winsomeministries.org/wp-content/uploads/2025/06/event-web.jpg
ORGANIZER;CN="Patriot Grandmas":MAILTO:patriotgrandmas@gmail.com
END:VEVENT
BEGIN:VEVENT
DTSTART;TZID=America/Denver:20270405T100000
DTEND;TZID=America/Denver:20270405T130000
DTSTAMP:20260423T114217
CREATED:20250724T204300Z
LAST-MODIFIED:20250725T135851Z
UID:10000426-1806919200-1806930000@www.winsomeministries.org
SUMMARY:Patriot Grandmas Lunch & Prayer
DESCRIPTION:Join Patriot Grandmas for a special prayer and lunch gathering. We’ll spend time in prayer —followed by a time of fellowship over lunch. All Northern Colorado grandmas are welcome! \nRSVP to Sharron Penny: Call 303-887-5087 or email patriotgrandmas@gmail.com
URL:https://www.winsomeministries.org/event/patriot-grandmas-lunch-prayer-2-2/2027-04-05/
LOCATION:Sharron Penny’s Home\, 220 Marcy Dr.\, Loveland\, CO\, 80537
CATEGORIES:Event
ATTACH;FMTTYPE=image/jpeg:https://www.winsomeministries.org/wp-content/uploads/2025/06/event-web.jpg
ORGANIZER;CN="Patriot Grandmas":MAILTO:patriotgrandmas@gmail.com
END:VEVENT
BEGIN:VEVENT
DTSTART;TZID=America/Denver:20270503T100000
DTEND;TZID=America/Denver:20270503T130000
DTSTAMP:20260423T114217
CREATED:20250724T204300Z
LAST-MODIFIED:20250725T135851Z
UID:10000427-1809338400-1809349200@www.winsomeministries.org
SUMMARY:Patriot Grandmas Lunch & Prayer
DESCRIPTION:Join Patriot Grandmas for a special prayer and lunch gathering. We’ll spend time in prayer —followed by a time of fellowship over lunch. All Northern Colorado grandmas are welcome! \nRSVP to Sharron Penny: Call 303-887-5087 or email patriotgrandmas@gmail.com
URL:https://www.winsomeministries.org/event/patriot-grandmas-lunch-prayer-2-2/2027-05-03/
LOCATION:Sharron Penny’s Home\, 220 Marcy Dr.\, Loveland\, CO\, 80537
CATEGORIES:Event
ATTACH;FMTTYPE=image/jpeg:https://www.winsomeministries.org/wp-content/uploads/2025/06/event-web.jpg
ORGANIZER;CN="Patriot Grandmas":MAILTO:patriotgrandmas@gmail.com
END:VEVENT
BEGIN:VEVENT
DTSTART;TZID=America/Denver:20270607T100000
DTEND;TZID=America/Denver:20270607T130000
DTSTAMP:20260423T114217
CREATED:20250724T204300Z
LAST-MODIFIED:20250725T135851Z
UID:10000428-1812362400-1812373200@www.winsomeministries.org
SUMMARY:Patriot Grandmas Lunch & Prayer
DESCRIPTION:Join Patriot Grandmas for a special prayer and lunch gathering. We’ll spend time in prayer —followed by a time of fellowship over lunch. All Northern Colorado grandmas are welcome! \nRSVP to Sharron Penny: Call 303-887-5087 or email patriotgrandmas@gmail.com
URL:https://www.winsomeministries.org/event/patriot-grandmas-lunch-prayer-2-2/2027-06-07/
LOCATION:Sharron Penny’s Home\, 220 Marcy Dr.\, Loveland\, CO\, 80537
CATEGORIES:Event
ATTACH;FMTTYPE=image/jpeg:https://www.winsomeministries.org/wp-content/uploads/2025/06/event-web.jpg
ORGANIZER;CN="Patriot Grandmas":MAILTO:patriotgrandmas@gmail.com
END:VEVENT
BEGIN:VEVENT
DTSTART;TZID=America/Denver:20270705T100000
DTEND;TZID=America/Denver:20270705T130000
DTSTAMP:20260423T114217
CREATED:20250724T204300Z
LAST-MODIFIED:20250725T135851Z
UID:10000429-1814781600-1814792400@www.winsomeministries.org
SUMMARY:Patriot Grandmas Lunch & Prayer
DESCRIPTION:Join Patriot Grandmas for a special prayer and lunch gathering. We’ll spend time in prayer —followed by a time of fellowship over lunch. All Northern Colorado grandmas are welcome! \nRSVP to Sharron Penny: Call 303-887-5087 or email patriotgrandmas@gmail.com
URL:https://www.winsomeministries.org/event/patriot-grandmas-lunch-prayer-2-2/2027-07-05/
LOCATION:Sharron Penny’s Home\, 220 Marcy Dr.\, Loveland\, CO\, 80537
CATEGORIES:Event
ATTACH;FMTTYPE=image/jpeg:https://www.winsomeministries.org/wp-content/uploads/2025/06/event-web.jpg
ORGANIZER;CN="Patriot Grandmas":MAILTO:patriotgrandmas@gmail.com
END:VEVENT
BEGIN:VEVENT
DTSTART;TZID=America/Denver:20270802T100000
DTEND;TZID=America/Denver:20270802T130000
DTSTAMP:20260423T114217
CREATED:20250724T204300Z
LAST-MODIFIED:20250725T135851Z
UID:10000430-1817200800-1817211600@www.winsomeministries.org
SUMMARY:Patriot Grandmas Lunch & Prayer
DESCRIPTION:Join Patriot Grandmas for a special prayer and lunch gathering. We’ll spend time in prayer —followed by a time of fellowship over lunch. All Northern Colorado grandmas are welcome! \nRSVP to Sharron Penny: Call 303-887-5087 or email patriotgrandmas@gmail.com
URL:https://www.winsomeministries.org/event/patriot-grandmas-lunch-prayer-2-2/2027-08-02/
LOCATION:Sharron Penny’s Home\, 220 Marcy Dr.\, Loveland\, CO\, 80537
CATEGORIES:Event
ATTACH;FMTTYPE=image/jpeg:https://www.winsomeministries.org/wp-content/uploads/2025/06/event-web.jpg
ORGANIZER;CN="Patriot Grandmas":MAILTO:patriotgrandmas@gmail.com
END:VEVENT
BEGIN:VEVENT
DTSTART;TZID=America/Denver:20270906T100000
DTEND;TZID=America/Denver:20270906T130000
DTSTAMP:20260423T114217
CREATED:20250724T204300Z
LAST-MODIFIED:20250725T135851Z
UID:10000431-1820224800-1820235600@www.winsomeministries.org
SUMMARY:Patriot Grandmas Lunch & Prayer
DESCRIPTION:Join Patriot Grandmas for a special prayer and lunch gathering. We’ll spend time in prayer —followed by a time of fellowship over lunch. All Northern Colorado grandmas are welcome! \nRSVP to Sharron Penny: Call 303-887-5087 or email patriotgrandmas@gmail.com
URL:https://www.winsomeministries.org/event/patriot-grandmas-lunch-prayer-2-2/2027-09-06/
LOCATION:Sharron Penny’s Home\, 220 Marcy Dr.\, Loveland\, CO\, 80537
CATEGORIES:Event
ATTACH;FMTTYPE=image/jpeg:https://www.winsomeministries.org/wp-content/uploads/2025/06/event-web.jpg
ORGANIZER;CN="Patriot Grandmas":MAILTO:patriotgrandmas@gmail.com
END:VEVENT
BEGIN:VEVENT
DTSTART;TZID=America/Denver:20271004T100000
DTEND;TZID=America/Denver:20271004T130000
DTSTAMP:20260423T114217
CREATED:20250724T204300Z
LAST-MODIFIED:20250725T135851Z
UID:10000432-1822644000-1822654800@www.winsomeministries.org
SUMMARY:Patriot Grandmas Lunch & Prayer
DESCRIPTION:Join Patriot Grandmas for a special prayer and lunch gathering. We’ll spend time in prayer —followed by a time of fellowship over lunch. All Northern Colorado grandmas are welcome! \nRSVP to Sharron Penny: Call 303-887-5087 or email patriotgrandmas@gmail.com
URL:https://www.winsomeministries.org/event/patriot-grandmas-lunch-prayer-2-2/2027-10-04/
LOCATION:Sharron Penny’s Home\, 220 Marcy Dr.\, Loveland\, CO\, 80537
CATEGORIES:Event
ATTACH;FMTTYPE=image/jpeg:https://www.winsomeministries.org/wp-content/uploads/2025/06/event-web.jpg
ORGANIZER;CN="Patriot Grandmas":MAILTO:patriotgrandmas@gmail.com
END:VEVENT
BEGIN:VEVENT
DTSTART;TZID=America/Denver:20271101T100000
DTEND;TZID=America/Denver:20271101T130000
DTSTAMP:20260423T114217
CREATED:20250724T204300Z
LAST-MODIFIED:20250725T135851Z
UID:10000433-1825063200-1825074000@www.winsomeministries.org
SUMMARY:Patriot Grandmas Lunch & Prayer
DESCRIPTION:Join Patriot Grandmas for a special prayer and lunch gathering. We’ll spend time in prayer —followed by a time of fellowship over lunch. All Northern Colorado grandmas are welcome! \nRSVP to Sharron Penny: Call 303-887-5087 or email patriotgrandmas@gmail.com
URL:https://www.winsomeministries.org/event/patriot-grandmas-lunch-prayer-2-2/2027-11-01/
LOCATION:Sharron Penny’s Home\, 220 Marcy Dr.\, Loveland\, CO\, 80537
CATEGORIES:Event
ATTACH;FMTTYPE=image/jpeg:https://www.winsomeministries.org/wp-content/uploads/2025/06/event-web.jpg
ORGANIZER;CN="Patriot Grandmas":MAILTO:patriotgrandmas@gmail.com
END:VEVENT
BEGIN:VEVENT
DTSTART;TZID=America/Denver:20271206T100000
DTEND;TZID=America/Denver:20271206T130000
DTSTAMP:20260423T114217
CREATED:20250724T204300Z
LAST-MODIFIED:20250725T135851Z
UID:10000434-1828087200-1828098000@www.winsomeministries.org
SUMMARY:Patriot Grandmas Lunch & Prayer
DESCRIPTION:Join Patriot Grandmas for a special prayer and lunch gathering. We’ll spend time in prayer —followed by a time of fellowship over lunch. All Northern Colorado grandmas are welcome! \nRSVP to Sharron Penny: Call 303-887-5087 or email patriotgrandmas@gmail.com
URL:https://www.winsomeministries.org/event/patriot-grandmas-lunch-prayer-2-2/2027-12-06/
LOCATION:Sharron Penny’s Home\, 220 Marcy Dr.\, Loveland\, CO\, 80537
CATEGORIES:Event
ATTACH;FMTTYPE=image/jpeg:https://www.winsomeministries.org/wp-content/uploads/2025/06/event-web.jpg
ORGANIZER;CN="Patriot Grandmas":MAILTO:patriotgrandmas@gmail.com
END:VEVENT
BEGIN:VEVENT
DTSTART;TZID=America/Denver:20280103T100000
DTEND;TZID=America/Denver:20280103T130000
DTSTAMP:20260423T114217
CREATED:20250724T204300Z
LAST-MODIFIED:20250725T135851Z
UID:10000435-1830506400-1830517200@www.winsomeministries.org
SUMMARY:Patriot Grandmas Lunch & Prayer
DESCRIPTION:Join Patriot Grandmas for a special prayer and lunch gathering. We’ll spend time in prayer —followed by a time of fellowship over lunch. All Northern Colorado grandmas are welcome! \nRSVP to Sharron Penny: Call 303-887-5087 or email patriotgrandmas@gmail.com
URL:https://www.winsomeministries.org/event/patriot-grandmas-lunch-prayer-2-2/2028-01-03/
LOCATION:Sharron Penny’s Home\, 220 Marcy Dr.\, Loveland\, CO\, 80537
CATEGORIES:Event
ATTACH;FMTTYPE=image/jpeg:https://www.winsomeministries.org/wp-content/uploads/2025/06/event-web.jpg
ORGANIZER;CN="Patriot Grandmas":MAILTO:patriotgrandmas@gmail.com
END:VEVENT
BEGIN:VEVENT
DTSTART;TZID=America/Denver:20280207T100000
DTEND;TZID=America/Denver:20280207T130000
DTSTAMP:20260423T114217
CREATED:20250724T204300Z
LAST-MODIFIED:20250725T135851Z
UID:10000436-1833530400-1833541200@www.winsomeministries.org
SUMMARY:Patriot Grandmas Lunch & Prayer
DESCRIPTION:Join Patriot Grandmas for a special prayer and lunch gathering. We’ll spend time in prayer —followed by a time of fellowship over lunch. All Northern Colorado grandmas are welcome! \nRSVP to Sharron Penny: Call 303-887-5087 or email patriotgrandmas@gmail.com
URL:https://www.winsomeministries.org/event/patriot-grandmas-lunch-prayer-2-2/2028-02-07/
LOCATION:Sharron Penny’s Home\, 220 Marcy Dr.\, Loveland\, CO\, 80537
CATEGORIES:Event
ATTACH;FMTTYPE=image/jpeg:https://www.winsomeministries.org/wp-content/uploads/2025/06/event-web.jpg
ORGANIZER;CN="Patriot Grandmas":MAILTO:patriotgrandmas@gmail.com
END:VEVENT
BEGIN:VEVENT
DTSTART;TZID=America/Denver:20280306T100000
DTEND;TZID=America/Denver:20280306T130000
DTSTAMP:20260423T114217
CREATED:20250724T204300Z
LAST-MODIFIED:20250725T135851Z
UID:10000437-1835949600-1835960400@www.winsomeministries.org
SUMMARY:Patriot Grandmas Lunch & Prayer
DESCRIPTION:Join Patriot Grandmas for a special prayer and lunch gathering. We’ll spend time in prayer —followed by a time of fellowship over lunch. All Northern Colorado grandmas are welcome! \nRSVP to Sharron Penny: Call 303-887-5087 or email patriotgrandmas@gmail.com
URL:https://www.winsomeministries.org/event/patriot-grandmas-lunch-prayer-2-2/2028-03-06/
LOCATION:Sharron Penny’s Home\, 220 Marcy Dr.\, Loveland\, CO\, 80537
CATEGORIES:Event
ATTACH;FMTTYPE=image/jpeg:https://www.winsomeministries.org/wp-content/uploads/2025/06/event-web.jpg
ORGANIZER;CN="Patriot Grandmas":MAILTO:patriotgrandmas@gmail.com
END:VEVENT
BEGIN:VEVENT
DTSTART;TZID=America/Denver:20280403T100000
DTEND;TZID=America/Denver:20280403T130000
DTSTAMP:20260423T114218
CREATED:20250724T204300Z
LAST-MODIFIED:20250725T135851Z
UID:10000438-1838368800-1838379600@www.winsomeministries.org
SUMMARY:Patriot Grandmas Lunch & Prayer
DESCRIPTION:Join Patriot Grandmas for a special prayer and lunch gathering. We’ll spend time in prayer —followed by a time of fellowship over lunch. All Northern Colorado grandmas are welcome! \nRSVP to Sharron Penny: Call 303-887-5087 or email patriotgrandmas@gmail.com
URL:https://www.winsomeministries.org/event/patriot-grandmas-lunch-prayer-2-2/2028-04-03/
LOCATION:Sharron Penny’s Home\, 220 Marcy Dr.\, Loveland\, CO\, 80537
CATEGORIES:Event
ATTACH;FMTTYPE=image/jpeg:https://www.winsomeministries.org/wp-content/uploads/2025/06/event-web.jpg
ORGANIZER;CN="Patriot Grandmas":MAILTO:patriotgrandmas@gmail.com
END:VEVENT
BEGIN:VEVENT
DTSTART;TZID=America/Denver:20280501T100000
DTEND;TZID=America/Denver:20280501T130000
DTSTAMP:20260423T114218
CREATED:20250724T204300Z
LAST-MODIFIED:20250725T135851Z
UID:10000439-1840788000-1840798800@www.winsomeministries.org
SUMMARY:Patriot Grandmas Lunch & Prayer
DESCRIPTION:Join Patriot Grandmas for a special prayer and lunch gathering. We’ll spend time in prayer —followed by a time of fellowship over lunch. All Northern Colorado grandmas are welcome! \nRSVP to Sharron Penny: Call 303-887-5087 or email patriotgrandmas@gmail.com
URL:https://www.winsomeministries.org/event/patriot-grandmas-lunch-prayer-2-2/2028-05-01/
LOCATION:Sharron Penny’s Home\, 220 Marcy Dr.\, Loveland\, CO\, 80537
CATEGORIES:Event
ATTACH;FMTTYPE=image/jpeg:https://www.winsomeministries.org/wp-content/uploads/2025/06/event-web.jpg
ORGANIZER;CN="Patriot Grandmas":MAILTO:patriotgrandmas@gmail.com
END:VEVENT
BEGIN:VEVENT
DTSTART;TZID=America/Denver:20280605T100000
DTEND;TZID=America/Denver:20280605T130000
DTSTAMP:20260423T114218
CREATED:20250724T204300Z
LAST-MODIFIED:20250725T135851Z
UID:10000440-1843812000-1843822800@www.winsomeministries.org
SUMMARY:Patriot Grandmas Lunch & Prayer
DESCRIPTION:Join Patriot Grandmas for a special prayer and lunch gathering. We’ll spend time in prayer —followed by a time of fellowship over lunch. All Northern Colorado grandmas are welcome! \nRSVP to Sharron Penny: Call 303-887-5087 or email patriotgrandmas@gmail.com
URL:https://www.winsomeministries.org/event/patriot-grandmas-lunch-prayer-2-2/2028-06-05/
LOCATION:Sharron Penny’s Home\, 220 Marcy Dr.\, Loveland\, CO\, 80537
CATEGORIES:Event
ATTACH;FMTTYPE=image/jpeg:https://www.winsomeministries.org/wp-content/uploads/2025/06/event-web.jpg
ORGANIZER;CN="Patriot Grandmas":MAILTO:patriotgrandmas@gmail.com
END:VEVENT
BEGIN:VEVENT
DTSTART;TZID=America/Denver:20280703T100000
DTEND;TZID=America/Denver:20280703T130000
DTSTAMP:20260423T114218
CREATED:20250724T204300Z
LAST-MODIFIED:20250725T135851Z
UID:10000441-1846231200-1846242000@www.winsomeministries.org
SUMMARY:Patriot Grandmas Lunch & Prayer
DESCRIPTION:Join Patriot Grandmas for a special prayer and lunch gathering. We’ll spend time in prayer —followed by a time of fellowship over lunch. All Northern Colorado grandmas are welcome! \nRSVP to Sharron Penny: Call 303-887-5087 or email patriotgrandmas@gmail.com
URL:https://www.winsomeministries.org/event/patriot-grandmas-lunch-prayer-2-2/2028-07-03/
LOCATION:Sharron Penny’s Home\, 220 Marcy Dr.\, Loveland\, CO\, 80537
CATEGORIES:Event
ATTACH;FMTTYPE=image/jpeg:https://www.winsomeministries.org/wp-content/uploads/2025/06/event-web.jpg
ORGANIZER;CN="Patriot Grandmas":MAILTO:patriotgrandmas@gmail.com
END:VEVENT
BEGIN:VEVENT
DTSTART;TZID=America/Denver:20280807T100000
DTEND;TZID=America/Denver:20280807T130000
DTSTAMP:20260423T114218
CREATED:20250724T204300Z
LAST-MODIFIED:20250725T135851Z
UID:10000442-1849255200-1849266000@www.winsomeministries.org
SUMMARY:Patriot Grandmas Lunch & Prayer
DESCRIPTION:Join Patriot Grandmas for a special prayer and lunch gathering. We’ll spend time in prayer —followed by a time of fellowship over lunch. All Northern Colorado grandmas are welcome! \nRSVP to Sharron Penny: Call 303-887-5087 or email patriotgrandmas@gmail.com
URL:https://www.winsomeministries.org/event/patriot-grandmas-lunch-prayer-2-2/2028-08-07/
LOCATION:Sharron Penny’s Home\, 220 Marcy Dr.\, Loveland\, CO\, 80537
CATEGORIES:Event
ATTACH;FMTTYPE=image/jpeg:https://www.winsomeministries.org/wp-content/uploads/2025/06/event-web.jpg
ORGANIZER;CN="Patriot Grandmas":MAILTO:patriotgrandmas@gmail.com
END:VEVENT
BEGIN:VEVENT
DTSTART;TZID=America/Denver:20280904T100000
DTEND;TZID=America/Denver:20280904T130000
DTSTAMP:20260423T114218
CREATED:20250724T204300Z
LAST-MODIFIED:20250725T135851Z
UID:10000443-1851674400-1851685200@www.winsomeministries.org
SUMMARY:Patriot Grandmas Lunch & Prayer
DESCRIPTION:Join Patriot Grandmas for a special prayer and lunch gathering. We’ll spend time in prayer —followed by a time of fellowship over lunch. All Northern Colorado grandmas are welcome! \nRSVP to Sharron Penny: Call 303-887-5087 or email patriotgrandmas@gmail.com
URL:https://www.winsomeministries.org/event/patriot-grandmas-lunch-prayer-2-2/2028-09-04/
LOCATION:Sharron Penny’s Home\, 220 Marcy Dr.\, Loveland\, CO\, 80537
CATEGORIES:Event
ATTACH;FMTTYPE=image/jpeg:https://www.winsomeministries.org/wp-content/uploads/2025/06/event-web.jpg
ORGANIZER;CN="Patriot Grandmas":MAILTO:patriotgrandmas@gmail.com
END:VEVENT
BEGIN:VEVENT
DTSTART;TZID=America/Denver:20281002T100000
DTEND;TZID=America/Denver:20281002T130000
DTSTAMP:20260423T114218
CREATED:20250724T204300Z
LAST-MODIFIED:20250725T135851Z
UID:10000444-1854093600-1854104400@www.winsomeministries.org
SUMMARY:Patriot Grandmas Lunch & Prayer
DESCRIPTION:Join Patriot Grandmas for a special prayer and lunch gathering. We’ll spend time in prayer —followed by a time of fellowship over lunch. All Northern Colorado grandmas are welcome! \nRSVP to Sharron Penny: Call 303-887-5087 or email patriotgrandmas@gmail.com
URL:https://www.winsomeministries.org/event/patriot-grandmas-lunch-prayer-2-2/2028-10-02/
LOCATION:Sharron Penny’s Home\, 220 Marcy Dr.\, Loveland\, CO\, 80537
CATEGORIES:Event
ATTACH;FMTTYPE=image/jpeg:https://www.winsomeministries.org/wp-content/uploads/2025/06/event-web.jpg
ORGANIZER;CN="Patriot Grandmas":MAILTO:patriotgrandmas@gmail.com
END:VEVENT
END:VCALENDAR