BEGIN:VCALENDAR
VERSION:2.0
PRODID:-//Winsome Ministries - ECPv6.15.20//NONSGML v1.0//EN
CALSCALE:GREGORIAN
METHOD:PUBLISH
X-WR-CALNAME:Winsome Ministries
X-ORIGINAL-URL:https://www.winsomeministries.org
X-WR-CALDESC:Events for Winsome Ministries
REFRESH-INTERVAL;VALUE=DURATION:PT1H
X-Robots-Tag:noindex
X-PUBLISHED-TTL:PT1H
BEGIN:VTIMEZONE
TZID:America/Denver
BEGIN:DAYLIGHT
TZOFFSETFROM:-0700
TZOFFSETTO:-0600
TZNAME:MDT
DTSTART:20240310T090000
END:DAYLIGHT
BEGIN:STANDARD
TZOFFSETFROM:-0600
TZOFFSETTO:-0700
TZNAME:MST
DTSTART:20241103T080000
END:STANDARD
BEGIN:DAYLIGHT
TZOFFSETFROM:-0700
TZOFFSETTO:-0600
TZNAME:MDT
DTSTART:20250309T090000
END:DAYLIGHT
BEGIN:STANDARD
TZOFFSETFROM:-0600
TZOFFSETTO:-0700
TZNAME:MST
DTSTART:20251102T080000
END:STANDARD
BEGIN:DAYLIGHT
TZOFFSETFROM:-0700
TZOFFSETTO:-0600
TZNAME:MDT
DTSTART:20260308T090000
END:DAYLIGHT
BEGIN:STANDARD
TZOFFSETFROM:-0600
TZOFFSETTO:-0700
TZNAME:MST
DTSTART:20261101T080000
END:STANDARD
END:VTIMEZONE
BEGIN:VEVENT
DTSTART;TZID=America/Denver:20251002T183000
DTEND;TZID=America/Denver:20251002T203000
DTSTAMP:20260424T083157
CREATED:20250723T195727Z
LAST-MODIFIED:20251013T194952Z
UID:10000236-1759429800-1759437000@www.winsomeministries.org
SUMMARY:Rebuilding Liberty Class
DESCRIPTION:About CIT Rebuilding Liberty Class (Fall 2025)\nDates: Thursdays\, September 25 – October 16 | 6:30–8:30 PM\nAmerica is worth saving—and you’re part of the plan! In this 4-week video-based course\, we’ll explore A Blueprint for Rebuilding Liberty Just in Time for America’s 250th. Mere months ago\, our nation stood at the edge—crippled by the poison of Marxist ideas. But now\, signs of renewal are emerging. This course will equip you to be part of the solution. Together\, we’ll walk through the eight building blocks of liberty and a 12-step program of action\, grounded in the principles of the Declaration of Independence. Each session features powerful speakers like Rick Green\, David and Tim Barton\, Victor Marx\, and other dynamic leaders who bring clarity\, purpose\, and a plan for restoring our republic. What to expect: \n\nFour weekly group sessions with video teaching\nA practical\, hope-filled guide to reclaiming liberty in your community\nEncouragement to take one bold action step by the end of the course\n\nWhether you’re brand new to the liberty movement or have been in the trenches for years\, this course will challenge and inspire you. Restoring a nation doesn’t happen by accident—it starts with people like you. Want to go deeper? The companion resources for this course will be available soon in our store. These optional materials are designed to enhance your experience\, whether you’re learning on your own or leading others. \nClick here to request to join. \n \n 
URL:https://www.winsomeministries.org/event/rebuilding-liberty-class/2025-10-02/
LOCATION:Citipointe Church – Loveland\, 5657 McWhinney Blvd\, Loveland\, 80538\, United States
CATEGORIES:Class
ATTACH;FMTTYPE=image/jpeg:https://www.winsomeministries.org/wp-content/uploads/2025/06/class-web.jpg
END:VEVENT
BEGIN:VEVENT
DTSTART;TZID=America/Denver:20250925T183000
DTEND;TZID=America/Denver:20250925T203000
DTSTAMP:20260424T083157
CREATED:20250723T195727Z
LAST-MODIFIED:20251013T194952Z
UID:10000235-1758825000-1758832200@www.winsomeministries.org
SUMMARY:Rebuilding Liberty Class
DESCRIPTION:About CIT Rebuilding Liberty Class (Fall 2025)\nDates: Thursdays\, September 25 – October 16 | 6:30–8:30 PM\nAmerica is worth saving—and you’re part of the plan! In this 4-week video-based course\, we’ll explore A Blueprint for Rebuilding Liberty Just in Time for America’s 250th. Mere months ago\, our nation stood at the edge—crippled by the poison of Marxist ideas. But now\, signs of renewal are emerging. This course will equip you to be part of the solution. Together\, we’ll walk through the eight building blocks of liberty and a 12-step program of action\, grounded in the principles of the Declaration of Independence. Each session features powerful speakers like Rick Green\, David and Tim Barton\, Victor Marx\, and other dynamic leaders who bring clarity\, purpose\, and a plan for restoring our republic. What to expect: \n\nFour weekly group sessions with video teaching\nA practical\, hope-filled guide to reclaiming liberty in your community\nEncouragement to take one bold action step by the end of the course\n\nWhether you’re brand new to the liberty movement or have been in the trenches for years\, this course will challenge and inspire you. Restoring a nation doesn’t happen by accident—it starts with people like you. Want to go deeper? The companion resources for this course will be available soon in our store. These optional materials are designed to enhance your experience\, whether you’re learning on your own or leading others. \nClick here to request to join. \n \n 
URL:https://www.winsomeministries.org/event/rebuilding-liberty-class/2025-09-25/
LOCATION:Citipointe Church – Loveland\, 5657 McWhinney Blvd\, Loveland\, 80538\, United States
CATEGORIES:Class
ATTACH;FMTTYPE=image/jpeg:https://www.winsomeministries.org/wp-content/uploads/2025/06/class-web.jpg
END:VEVENT
BEGIN:VEVENT
DTSTART;VALUE=DATE:20250915
DTEND;VALUE=DATE:20250916
DTSTAMP:20260424T083157
CREATED:20250731T205647Z
LAST-MODIFIED:20250731T214458Z
UID:10000984-1757894400-1757980799@www.winsomeministries.org
SUMMARY:A Friend for You
DESCRIPTION:Ongoing Opportunities: Be a Friend\nA Friend for You exists to offer hope\, help\, and lasting friendship to women facing unexpected pregnancies. Through one-on-one connections\, trained volunteers walk alongside women with care\, encouragement\, and practical support—offering friendship without pressure or judgment. \nVolunteers are needed on an ongoing basis to serve as Friends\, provide meals\, help with deliveries\, write notes of encouragement\, or assist behind the scenes. Whether you’re available weekly or just occasionally\, there’s a place for you to make a difference. \n📅 Recurring volunteer opportunities throughout the year📍 Serving women across Northern Colorado\n👉 Learn more and get involved.You’ll receive training\, support\, and resources to serve with confidence and compassion. Your friendship could change a life.
URL:https://www.winsomeministries.org/event/a-friend-for-you/2025-09-15/
LOCATION:CO
CATEGORIES:Serve
ATTACH;FMTTYPE=image/jpeg:https://www.winsomeministries.org/wp-content/uploads/2025/06/serve-web.jpg
END:VEVENT
BEGIN:VEVENT
DTSTART;VALUE=DATE:20250908
DTEND;VALUE=DATE:20250909
DTSTAMP:20260424T083157
CREATED:20250731T204230Z
LAST-MODIFIED:20250731T204231Z
UID:10000864-1757289600-1757375999@www.winsomeministries.org
SUMMARY:Protect Kids Colorado
DESCRIPTION:Ongoing Volunteer Needs\nProtect Kids Colorado is a statewide\, nonpartisan\, grassroots coalition working to safeguard the health\, safety\, and innocence of children. Through community engagement and legislative action\, PKC empowers parents and citizens to protect children from harmful policies and cultural influences. \nVolunteers are needed to join PKC’s Petition Carrier Team to help gather signatures for three citizen-led ballot initiatives aimed at: \n\nPreventing child sex trafficking\nBanning irreversible gender procedures on minors\nProtecting girls’ sports and single-sex spaces\n\nBe a voice for Colorado’s children. Whether you have just a few hours or want to serve regularly\, your help matters. Petition carriers play a key role in ensuring these initiatives make it to the ballot—and into law. \n📅 Recurring volunteer opportunities\, at no specific date and time📍 Locations vary across Northern Colorado. \n👉 Sign up today to join the PKC team. Let us know you’re interested\, and we’ll connect you with training\, materials\, and local coordination. \nTogether\, we can protect the next generation! Learn more now!
URL:https://www.winsomeministries.org/event/protect-kids-colorado/2025-09-08/
LOCATION:CO
CATEGORIES:Serve
ATTACH;FMTTYPE=image/jpeg:https://www.winsomeministries.org/wp-content/uploads/2025/06/serve-web.jpg
END:VEVENT
BEGIN:VEVENT
DTSTART;VALUE=DATE:20250818
DTEND;VALUE=DATE:20250819
DTSTAMP:20260424T083157
CREATED:20250731T205647Z
LAST-MODIFIED:20250731T214458Z
UID:10000983-1755475200-1755561599@www.winsomeministries.org
SUMMARY:A Friend for You
DESCRIPTION:Ongoing Opportunities: Be a Friend\nA Friend for You exists to offer hope\, help\, and lasting friendship to women facing unexpected pregnancies. Through one-on-one connections\, trained volunteers walk alongside women with care\, encouragement\, and practical support—offering friendship without pressure or judgment. \nVolunteers are needed on an ongoing basis to serve as Friends\, provide meals\, help with deliveries\, write notes of encouragement\, or assist behind the scenes. Whether you’re available weekly or just occasionally\, there’s a place for you to make a difference. \n📅 Recurring volunteer opportunities throughout the year📍 Serving women across Northern Colorado\n👉 Learn more and get involved.You’ll receive training\, support\, and resources to serve with confidence and compassion. Your friendship could change a life.
URL:https://www.winsomeministries.org/event/a-friend-for-you/2025-08-18/
LOCATION:CO
CATEGORIES:Serve
ATTACH;FMTTYPE=image/jpeg:https://www.winsomeministries.org/wp-content/uploads/2025/06/serve-web.jpg
END:VEVENT
BEGIN:VEVENT
DTSTART;VALUE=DATE:20250811
DTEND;VALUE=DATE:20250812
DTSTAMP:20260424T083157
CREATED:20250731T204230Z
LAST-MODIFIED:20250731T204231Z
UID:10000863-1754870400-1754956799@www.winsomeministries.org
SUMMARY:Protect Kids Colorado
DESCRIPTION:Ongoing Volunteer Needs\nProtect Kids Colorado is a statewide\, nonpartisan\, grassroots coalition working to safeguard the health\, safety\, and innocence of children. Through community engagement and legislative action\, PKC empowers parents and citizens to protect children from harmful policies and cultural influences. \nVolunteers are needed to join PKC’s Petition Carrier Team to help gather signatures for three citizen-led ballot initiatives aimed at: \n\nPreventing child sex trafficking\nBanning irreversible gender procedures on minors\nProtecting girls’ sports and single-sex spaces\n\nBe a voice for Colorado’s children. Whether you have just a few hours or want to serve regularly\, your help matters. Petition carriers play a key role in ensuring these initiatives make it to the ballot—and into law. \n📅 Recurring volunteer opportunities\, at no specific date and time📍 Locations vary across Northern Colorado. \n👉 Sign up today to join the PKC team. Let us know you’re interested\, and we’ll connect you with training\, materials\, and local coordination. \nTogether\, we can protect the next generation! Learn more now!
URL:https://www.winsomeministries.org/event/protect-kids-colorado/2025-08-11/
LOCATION:CO
CATEGORIES:Serve
ATTACH;FMTTYPE=image/jpeg:https://www.winsomeministries.org/wp-content/uploads/2025/06/serve-web.jpg
END:VEVENT
END:VCALENDAR