BEGIN:VCALENDAR
VERSION:2.0
PRODID:-//Winsome Ministries - ECPv6.15.20//NONSGML v1.0//EN
CALSCALE:GREGORIAN
METHOD:PUBLISH
X-ORIGINAL-URL:https://www.winsomeministries.org
X-WR-CALDESC:Events for Winsome Ministries
REFRESH-INTERVAL;VALUE=DURATION:PT1H
X-Robots-Tag:noindex
X-PUBLISHED-TTL:PT1H
BEGIN:VTIMEZONE
TZID:America/Denver
BEGIN:DAYLIGHT
TZOFFSETFROM:-0700
TZOFFSETTO:-0600
TZNAME:MDT
DTSTART:20250309T090000
END:DAYLIGHT
BEGIN:STANDARD
TZOFFSETFROM:-0600
TZOFFSETTO:-0700
TZNAME:MST
DTSTART:20251102T080000
END:STANDARD
BEGIN:DAYLIGHT
TZOFFSETFROM:-0700
TZOFFSETTO:-0600
TZNAME:MDT
DTSTART:20260308T090000
END:DAYLIGHT
BEGIN:STANDARD
TZOFFSETFROM:-0600
TZOFFSETTO:-0700
TZNAME:MST
DTSTART:20261101T080000
END:STANDARD
BEGIN:DAYLIGHT
TZOFFSETFROM:-0700
TZOFFSETTO:-0600
TZNAME:MDT
DTSTART:20270314T090000
END:DAYLIGHT
BEGIN:STANDARD
TZOFFSETFROM:-0600
TZOFFSETTO:-0700
TZNAME:MST
DTSTART:20271107T080000
END:STANDARD
END:VTIMEZONE
BEGIN:VEVENT
DTSTART;TZID=America/Denver:20260410T160000
DTEND;TZID=America/Denver:20260412T120000
DTSTAMP:20260423T131139
CREATED:20260211T222752Z
LAST-MODIFIED:20260211T223224Z
UID:10002612-1775836800-1775995200@www.winsomeministries.org
SUMMARY:United 2 Stop Retreat
DESCRIPTION:Hit the pause button\, and join United 2 Stope and Colorado House of Prayer for an unforgettable\, mountain retreat where you can rest\, refresh and fill your cup! This retreat is reserved for front line workers – spouses are welcome! \n\n\n\n\n\n\nHosed By: U2S & Colorado House of Prayer\nLocation: High Peak Salvation Army Lodge Estes Park\, CO\nDates: Apr 10 at 4 pm – Apr 12 at 12 pm MDT\nFor More Information: click here
URL:https://www.winsomeministries.org/event/united-2-stop-retreat/
LOCATION:High Peak Salvation Army Lodge\, 111 Salvation Lane\, Estes Park\, CO\, 80517\, United States
CATEGORIES:Conference
ATTACH;FMTTYPE=image/jpeg:https://www.winsomeministries.org/wp-content/uploads/2025/06/conference-web.jpg
END:VEVENT
END:VCALENDAR