BEGIN:VCALENDAR
VERSION:2.0
PRODID:-//Winsome Ministries - ECPv6.15.20//NONSGML v1.0//EN
CALSCALE:GREGORIAN
METHOD:PUBLISH
X-WR-CALNAME:Winsome Ministries
X-ORIGINAL-URL:https://www.winsomeministries.org
X-WR-CALDESC:Events for Winsome Ministries
REFRESH-INTERVAL;VALUE=DURATION:PT1H
X-Robots-Tag:noindex
X-PUBLISHED-TTL:PT1H
BEGIN:VTIMEZONE
TZID:America/Denver
BEGIN:DAYLIGHT
TZOFFSETFROM:-0700
TZOFFSETTO:-0600
TZNAME:MDT
DTSTART:20250309T090000
END:DAYLIGHT
BEGIN:STANDARD
TZOFFSETFROM:-0600
TZOFFSETTO:-0700
TZNAME:MST
DTSTART:20251102T080000
END:STANDARD
BEGIN:DAYLIGHT
TZOFFSETFROM:-0700
TZOFFSETTO:-0600
TZNAME:MDT
DTSTART:20260308T090000
END:DAYLIGHT
BEGIN:STANDARD
TZOFFSETFROM:-0600
TZOFFSETTO:-0700
TZNAME:MST
DTSTART:20261101T080000
END:STANDARD
BEGIN:DAYLIGHT
TZOFFSETFROM:-0700
TZOFFSETTO:-0600
TZNAME:MDT
DTSTART:20270314T090000
END:DAYLIGHT
BEGIN:STANDARD
TZOFFSETFROM:-0600
TZOFFSETTO:-0700
TZNAME:MST
DTSTART:20271107T080000
END:STANDARD
END:VTIMEZONE
BEGIN:VEVENT
DTSTART;TZID=America/Denver:20260212T100000
DTEND;TZID=America/Denver:20260212T110000
DTSTAMP:20260423T162433
CREATED:20260205T221007Z
LAST-MODIFIED:20260205T221007Z
UID:10002599-1770890400-1770894000@www.winsomeministries.org
SUMMARY:Nonprofit Strategist
DESCRIPTION:Kim Fisher of Vision Catalyst\, an experienced nonprofit strategist\, is hosting a practical workshop focused on real-life ways nonprofits can use AI tools to strengthen their work. This session is designed for nonprofit leaders\, staff\, board members\, and anyone supporting nonprofit organizations. \nTopics include: \n\nDonor outreach and relationship-building\nAppeals and impact reporting\nCampaign and event promotion\n\nKim is an excellent resource for nonprofits and brings a practical\, approachable perspective to strategy and innovation. \n\nThursday\, February 12\, 2026 – 12:00 PM ET\nFormat: Online workshop (details provided by host)\nRegister here: https://anyonecanfundraise.com/aiseminarsignup
URL:https://www.winsomeministries.org/event/nonprofit-strategist/
LOCATION:CO
CATEGORIES:Class
ATTACH;FMTTYPE=image/jpeg:https://www.winsomeministries.org/wp-content/uploads/2025/06/class-web.jpg
END:VEVENT
END:VCALENDAR