BEGIN:VCALENDAR
VERSION:2.0
PRODID:-//Winsome Ministries - ECPv6.15.20//NONSGML v1.0//EN
CALSCALE:GREGORIAN
METHOD:PUBLISH
X-WR-CALNAME:Winsome Ministries
X-ORIGINAL-URL:https://www.winsomeministries.org
X-WR-CALDESC:Events for Winsome Ministries
REFRESH-INTERVAL;VALUE=DURATION:PT1H
X-Robots-Tag:noindex
X-PUBLISHED-TTL:PT1H
BEGIN:VTIMEZONE
TZID:America/Denver
BEGIN:DAYLIGHT
TZOFFSETFROM:-0700
TZOFFSETTO:-0600
TZNAME:MDT
DTSTART:20250309T090000
END:DAYLIGHT
BEGIN:STANDARD
TZOFFSETFROM:-0600
TZOFFSETTO:-0700
TZNAME:MST
DTSTART:20251102T080000
END:STANDARD
BEGIN:DAYLIGHT
TZOFFSETFROM:-0700
TZOFFSETTO:-0600
TZNAME:MDT
DTSTART:20260308T090000
END:DAYLIGHT
BEGIN:STANDARD
TZOFFSETFROM:-0600
TZOFFSETTO:-0700
TZNAME:MST
DTSTART:20261101T080000
END:STANDARD
BEGIN:DAYLIGHT
TZOFFSETFROM:-0700
TZOFFSETTO:-0600
TZNAME:MDT
DTSTART:20270314T090000
END:DAYLIGHT
BEGIN:STANDARD
TZOFFSETFROM:-0600
TZOFFSETTO:-0700
TZNAME:MST
DTSTART:20271107T080000
END:STANDARD
END:VTIMEZONE
BEGIN:VEVENT
DTSTART;VALUE=DATE:20260713
DTEND;VALUE=DATE:20260714
DTSTAMP:20260423T144711
CREATED:20250731T204230Z
LAST-MODIFIED:20250731T204231Z
UID:10000874-1783900800-1783987199@www.winsomeministries.org
SUMMARY:Protect Kids Colorado
DESCRIPTION:Ongoing Volunteer Needs\nProtect Kids Colorado is a statewide\, nonpartisan\, grassroots coalition working to safeguard the health\, safety\, and innocence of children. Through community engagement and legislative action\, PKC empowers parents and citizens to protect children from harmful policies and cultural influences. \nVolunteers are needed to join PKC’s Petition Carrier Team to help gather signatures for three citizen-led ballot initiatives aimed at: \n\nPreventing child sex trafficking\nBanning irreversible gender procedures on minors\nProtecting girls’ sports and single-sex spaces\n\nBe a voice for Colorado’s children. Whether you have just a few hours or want to serve regularly\, your help matters. Petition carriers play a key role in ensuring these initiatives make it to the ballot—and into law. \n📅 Recurring volunteer opportunities\, at no specific date and time📍 Locations vary across Northern Colorado. \n👉 Sign up today to join the PKC team. Let us know you’re interested\, and we’ll connect you with training\, materials\, and local coordination. \nTogether\, we can protect the next generation! Learn more now!
URL:https://www.winsomeministries.org/event/protect-kids-colorado/2026-07-13/
CATEGORIES:Serve
ATTACH;FMTTYPE=image/jpeg:https://www.winsomeministries.org/wp-content/uploads/2025/06/serve-web.jpg
END:VEVENT
END:VCALENDAR