BEGIN:VCALENDAR
VERSION:2.0
PRODID:-//Winsome Ministries - ECPv6.15.20//NONSGML v1.0//EN
CALSCALE:GREGORIAN
METHOD:PUBLISH
X-WR-CALNAME:Winsome Ministries
X-ORIGINAL-URL:https://www.winsomeministries.org
X-WR-CALDESC:Events for Winsome Ministries
REFRESH-INTERVAL;VALUE=DURATION:PT1H
X-Robots-Tag:noindex
X-PUBLISHED-TTL:PT1H
BEGIN:VTIMEZONE
TZID:America/Denver
BEGIN:DAYLIGHT
TZOFFSETFROM:-0700
TZOFFSETTO:-0600
TZNAME:MDT
DTSTART:20250309T090000
END:DAYLIGHT
BEGIN:STANDARD
TZOFFSETFROM:-0600
TZOFFSETTO:-0700
TZNAME:MST
DTSTART:20251102T080000
END:STANDARD
BEGIN:DAYLIGHT
TZOFFSETFROM:-0700
TZOFFSETTO:-0600
TZNAME:MDT
DTSTART:20260308T090000
END:DAYLIGHT
BEGIN:STANDARD
TZOFFSETFROM:-0600
TZOFFSETTO:-0700
TZNAME:MST
DTSTART:20261101T080000
END:STANDARD
BEGIN:DAYLIGHT
TZOFFSETFROM:-0700
TZOFFSETTO:-0600
TZNAME:MDT
DTSTART:20270314T090000
END:DAYLIGHT
BEGIN:STANDARD
TZOFFSETFROM:-0600
TZOFFSETTO:-0700
TZNAME:MST
DTSTART:20271107T080000
END:STANDARD
END:VTIMEZONE
BEGIN:VEVENT
DTSTART;TZID=America/Denver:20261111T080000
DTEND;TZID=America/Denver:20261111T170000
DTSTAMP:20260424T003747
CREATED:20260401T193236Z
LAST-MODIFIED:20260401T193236Z
UID:10002689-1794384000-1794416400@www.winsomeministries.org
SUMMARY:Fall Prophecy Conference
DESCRIPTION:Awake & Aware\nWe face uncertain and troubling times. The world is rapidly changing\, and pressures are great to accept new norms. Why do these motives exist against law and order? Where is all this chaos headed? How do we stay “awake and aware?” This premier Bible prophecy conference features five renowned speakers who will help us explore what God’s Word says about current events\, future challenges\, and the hope we have in Christ alone. \nJoin us in beautiful Fort Collins\, CO for an amazing weekend of deep insight from and fellowship with some of the leading voices in the world of Biblical prophecy. The theme of this conference seeks to reinforce a proper Christian attitude and perspective during these times of mounting turbulence and confusion. Each of the speakers will provide two 60-minute sessions. Click here for more information!
URL:https://www.winsomeministries.org/event/fall-prophecy-conference/2026-11-11/1/
LOCATION:Ridgeview Classical Schools\, 1800 S. Lemay Ave.\, Fort Collins\, CO\, 80525
END:VEVENT
END:VCALENDAR