BEGIN:VCALENDAR
VERSION:2.0
PRODID:-//Winsome Ministries - ECPv6.15.20//NONSGML v1.0//EN
CALSCALE:GREGORIAN
METHOD:PUBLISH
X-WR-CALNAME:Winsome Ministries
X-ORIGINAL-URL:https://www.winsomeministries.org
X-WR-CALDESC:Events for Winsome Ministries
REFRESH-INTERVAL;VALUE=DURATION:PT1H
X-Robots-Tag:noindex
X-PUBLISHED-TTL:PT1H
BEGIN:VTIMEZONE
TZID:America/Denver
BEGIN:DAYLIGHT
TZOFFSETFROM:-0700
TZOFFSETTO:-0600
TZNAME:MDT
DTSTART:20250309T090000
END:DAYLIGHT
BEGIN:STANDARD
TZOFFSETFROM:-0600
TZOFFSETTO:-0700
TZNAME:MST
DTSTART:20251102T080000
END:STANDARD
BEGIN:DAYLIGHT
TZOFFSETFROM:-0700
TZOFFSETTO:-0600
TZNAME:MDT
DTSTART:20260308T090000
END:DAYLIGHT
BEGIN:STANDARD
TZOFFSETFROM:-0600
TZOFFSETTO:-0700
TZNAME:MST
DTSTART:20261101T080000
END:STANDARD
BEGIN:DAYLIGHT
TZOFFSETFROM:-0700
TZOFFSETTO:-0600
TZNAME:MDT
DTSTART:20270314T090000
END:DAYLIGHT
BEGIN:STANDARD
TZOFFSETFROM:-0600
TZOFFSETTO:-0700
TZNAME:MST
DTSTART:20271107T080000
END:STANDARD
END:VTIMEZONE
BEGIN:VEVENT
DTSTART;TZID=America/Denver:20260208T180000
DTEND;TZID=America/Denver:20260208T200000
DTSTAMP:20260423T181100
CREATED:20251107T182224Z
LAST-MODIFIED:20251117T160740Z
UID:10001693-1770573600-1770580800@www.winsomeministries.org
SUMMARY:A Biblical View of the End Times
DESCRIPTION:A Biblical View of the End Times — Bible Prophecy Series\nDid you know that one of every five verses in the New Testament is about Jesus Christ’s return? Bible Prophecy formed the foundation of the first sermon ever preached to the church (Acts 2:14-41)\, and Paul dispensed a hefty dose of Bible Prophecy to the infant Thessalonian church in the short time he was with them.  Did you know that Jesus Christ talked extensively about future prophetic matters? \nA Biblical View of the End Times — is an in-depth Bible prophecy study series led by Steve Schmutzer\, a respected Bible prophecy teacher and writer. This is your chance to gain a great foundation in Bible Prophecy\, to understand what’s happening around us in the world today\, and to see where this is all going. Discover why over one-quarter of God’s Word focuses on prophecy\, and gain a deeper understanding of what Scripture says about the times we’re living in and what’s to come. Each session includes teaching\, lesson notes\, and Q&A. \n📅 Start Date: Sunday\, November 23🕕 Time: 6:00 PM (continues Sunday evenings thereafter)🏢 Venue: Evangelical Free Church of Windsor📍 Address: 700 Pine Drive\, Windsor\, CO 80550\n🌐 More Info: www.solidbreadcommunity.com✉️ Contact: connect@solidbreadcommunity.com💲 Cost: Free
URL:https://www.winsomeministries.org/event/a-biblical-view-of-the-end-times/2026-02-08/
LOCATION:Evangelical Free Church of Windsor\, 700 Pine Drive\, CO\, 80550\, United States
CATEGORIES:Class
ATTACH;FMTTYPE=image/jpeg:https://www.winsomeministries.org/wp-content/uploads/2025/06/class-web.jpg
END:VEVENT
END:VCALENDAR