BEGIN:VCALENDAR
VERSION:2.0
PRODID:-//Winsome Ministries - ECPv6.15.20//NONSGML v1.0//EN
CALSCALE:GREGORIAN
METHOD:PUBLISH
X-WR-CALNAME:Winsome Ministries
X-ORIGINAL-URL:https://www.winsomeministries.org
X-WR-CALDESC:Events for Winsome Ministries
REFRESH-INTERVAL;VALUE=DURATION:PT1H
X-Robots-Tag:noindex
X-PUBLISHED-TTL:PT1H
BEGIN:VTIMEZONE
TZID:America/Denver
BEGIN:DAYLIGHT
TZOFFSETFROM:-0700
TZOFFSETTO:-0600
TZNAME:MDT
DTSTART:20250309T090000
END:DAYLIGHT
BEGIN:STANDARD
TZOFFSETFROM:-0600
TZOFFSETTO:-0700
TZNAME:MST
DTSTART:20251102T080000
END:STANDARD
BEGIN:DAYLIGHT
TZOFFSETFROM:-0700
TZOFFSETTO:-0600
TZNAME:MDT
DTSTART:20260308T090000
END:DAYLIGHT
BEGIN:STANDARD
TZOFFSETFROM:-0600
TZOFFSETTO:-0700
TZNAME:MST
DTSTART:20261101T080000
END:STANDARD
BEGIN:DAYLIGHT
TZOFFSETFROM:-0700
TZOFFSETTO:-0600
TZNAME:MDT
DTSTART:20270314T090000
END:DAYLIGHT
BEGIN:STANDARD
TZOFFSETFROM:-0600
TZOFFSETTO:-0700
TZNAME:MST
DTSTART:20271107T080000
END:STANDARD
END:VTIMEZONE
BEGIN:VEVENT
DTSTART;TZID=America/Denver:20260412T103000
DTEND;TZID=America/Denver:20260412T123000
DTSTAMP:20260423T131407
CREATED:20251117T155520Z
LAST-MODIFIED:20260209T185848Z
UID:10002298-1775989800-1775997000@www.winsomeministries.org
SUMMARY:1 & 2 Thessalonians
DESCRIPTION:Join Solid Bread Community for “Faithful Endurance In One Direction”\nPaul wrote 1 & 2 Thessalonians to a baby church in the city of Thessalonica. They were new believers\, vulnerable believers\, and they were facing persecution and confusion. But Paul could only be with them for a short time. Given this urgency\, he emphasized important fundamentals\, and we’re wise to take notice of his priorities. Paul encouraged these new believers to stay faithful despite their many hardships. He taught them the various doctrines of Jesus Christ’s return\, and he provided them with practical guidance on sexual purity\, daily living\, and avoiding idleness. Basically\, Paul told this church\, “Hang in there! Don’t lose hope. Jesus is coming back\, so keep on keeping on. Choose to live a life that’s pleasing to God.” It’s a powerful message we all need today\, and it’s an encouragement to us to faithfully endure in one direction. \nEvery Sunday. Refreshments start at 10:30am\, Teaching starts at 11am at Ridgeview Classical School in the Gym. \nClick here for more information.
URL:https://www.winsomeministries.org/event/12-thessalonians/2026-04-12/
LOCATION:Ridgeview Classical School\, 1800 S. Lemay Ave.\, Fort Collins\, CO\, 80525\, United States
CATEGORIES:Class
ATTACH;FMTTYPE=image/jpeg:https://www.winsomeministries.org/wp-content/uploads/2025/06/class-web.jpg
END:VEVENT
END:VCALENDAR